BEGIN:VCALENDAR
PRODID:-//AT Content Types//AT Event//EN
VERSION:2.0
METHOD:PUBLISH
BEGIN:VEVENT
DTSTAMP:20260421T225330Z
CREATED:20240403T070904Z
UID:ATEvent-4c74043fe9b84b5096e76552e18eb581
LAST-MODIFIED:20240425T114612Z
SUMMARY:Consultation event for parents and carers
DTSTART:20240422T170000Z
DTEND:20240422T180000Z
DESCRIPTION:Consultation event for parents and carers at the junior sc
 hool from 18.00 to 19.00 on 22 April 2024
CLASS:PUBLIC
END:VEVENT
END:VCALENDAR
