BEGIN:VCALENDAR
PRODID:-//AT Content Types//AT Event//EN
VERSION:2.0
METHOD:PUBLISH
BEGIN:VEVENT
DTSTAMP:20260421T225330Z
CREATED:20240403T064513Z
UID:ATEvent-324a1fc01b714b5b89d394d948e930e2
LAST-MODIFIED:20240425T114612Z
SUMMARY:Consultation event for staff
DTSTART:20240422T143000Z
DTEND:20240422T153000Z
DESCRIPTION:Staff consultation event at the junior school from 15.30 t
 o 16.30 on 22 April 2024
CLASS:PUBLIC
END:VEVENT
END:VCALENDAR
