BEGIN:VCALENDAR
PRODID:-//AT Content Types//AT Event//EN
VERSION:2.0
METHOD:PUBLISH
BEGIN:VEVENT
DTSTAMP:20260421T100742Z
CREATED:20221005T092627Z
UID:ATEvent-0338fba9d5774ac1b5e1d439714f8b76
LAST-MODIFIED:20230914T075505Z
SUMMARY:Consultation Event
DTSTART:20221112T100000Z
DTEND:20221112T160000Z
DESCRIPTION:The Atrium\, Enterprise Centre\, Station Parade\, Eastbour
 ne BN21 1BD
CLASS:PUBLIC
END:VEVENT
END:VCALENDAR
